BEGIN:VCALENDAR
VERSION:2.0
PRODID:-//Association of Drainage Authorities - ECPv6.15.17.1//NONSGML v1.0//EN
CALSCALE:GREGORIAN
METHOD:PUBLISH
X-WR-CALNAME:Association of Drainage Authorities
X-ORIGINAL-URL:https://www.ada.org.uk
X-WR-CALDESC:Events for Association of Drainage Authorities
REFRESH-INTERVAL;VALUE=DURATION:PT1H
X-Robots-Tag:noindex
X-PUBLISHED-TTL:PT1H
BEGIN:VTIMEZONE
TZID:Europe/London
BEGIN:DAYLIGHT
TZOFFSETFROM:+0000
TZOFFSETTO:+0100
TZNAME:BST
DTSTART:20210328T010000
END:DAYLIGHT
BEGIN:STANDARD
TZOFFSETFROM:+0100
TZOFFSETTO:+0000
TZNAME:GMT
DTSTART:20211031T010000
END:STANDARD
BEGIN:DAYLIGHT
TZOFFSETFROM:+0000
TZOFFSETTO:+0100
TZNAME:BST
DTSTART:20220327T010000
END:DAYLIGHT
BEGIN:STANDARD
TZOFFSETFROM:+0100
TZOFFSETTO:+0000
TZNAME:GMT
DTSTART:20221030T010000
END:STANDARD
BEGIN:DAYLIGHT
TZOFFSETFROM:+0000
TZOFFSETTO:+0100
TZNAME:BST
DTSTART:20230326T010000
END:DAYLIGHT
BEGIN:STANDARD
TZOFFSETFROM:+0100
TZOFFSETTO:+0000
TZNAME:GMT
DTSTART:20231029T010000
END:STANDARD
BEGIN:DAYLIGHT
TZOFFSETFROM:+0000
TZOFFSETTO:+0100
TZNAME:BST
DTSTART:20240331T010000
END:DAYLIGHT
BEGIN:STANDARD
TZOFFSETFROM:+0100
TZOFFSETTO:+0000
TZNAME:GMT
DTSTART:20241027T010000
END:STANDARD
END:VTIMEZONE
BEGIN:VEVENT
DTSTART;VALUE=DATE:20230913
DTEND;VALUE=DATE:20230914
DTSTAMP:20260421T213143
CREATED:20221220T163331Z
LAST-MODIFIED:20230801T144648Z
UID:8013-1694563200-1694649599@www.ada.org.uk
SUMMARY:Policy & Finance Comittee
DESCRIPTION:More information to follow
URL:https://www.ada.org.uk/events-calendar/policy-finance-comittee-3/
LOCATION:Environment Agency\, TEAM 2100\, 111 Buckingham Palace Road\, London\, SW1W 0SR\, United Kingdom
CATEGORIES:Committee - P&F
ATTACH;FMTTYPE=image/jpeg:https://www.ada.org.uk/wp-content/uploads/2022/03/ADA-Events-PF-Committee.jpg
END:VEVENT
BEGIN:VEVENT
DTSTART;VALUE=DATE:20230523
DTEND;VALUE=DATE:20230524
DTSTAMP:20260421T213143
CREATED:20221220T163241Z
LAST-MODIFIED:20230113T095901Z
UID:8011-1684800000-1684886399@www.ada.org.uk
SUMMARY:Policy & Finance Comittee
DESCRIPTION:More information to follow
URL:https://www.ada.org.uk/events-calendar/policy-finance-comittee-2/
LOCATION:Environment Agency\, TEAM 2100\, 111 Buckingham Palace Road\, London\, SW1W 0SR\, United Kingdom
CATEGORIES:Committee - P&F
ATTACH;FMTTYPE=image/jpeg:https://www.ada.org.uk/wp-content/uploads/2022/03/ADA-Events-PF-Committee.jpg
END:VEVENT
BEGIN:VEVENT
DTSTART;TZID=Europe/London:20230203T103000
DTEND;TZID=Europe/London:20230203T123000
DTSTAMP:20260421T213143
CREATED:20221220T163148Z
LAST-MODIFIED:20230123T144348Z
UID:8009-1675420200-1675427400@www.ada.org.uk
SUMMARY:Policy & Finance Comittee
DESCRIPTION:Download the agenda here
URL:https://www.ada.org.uk/events-calendar/policy-finance-comittee/
LOCATION:Online
CATEGORIES:Committee - P&F
ATTACH;FMTTYPE=image/jpeg:https://www.ada.org.uk/wp-content/uploads/2022/03/ADA-Events-PF-Committee.jpg
END:VEVENT
BEGIN:VEVENT
DTSTART;TZID=Europe/London:20220921T103000
DTEND;TZID=Europe/London:20220921T143000
DTSTAMP:20260421T213143
CREATED:20220307T114641Z
LAST-MODIFIED:20220331T164637Z
UID:7382-1663756200-1663770600@www.ada.org.uk
SUMMARY:Policy & Finance Committee Meeting
DESCRIPTION:ADA’s Policy & Finance Committee discusses governance\, legal\, financial\, audit and policy matters. \nMore information to follow.
URL:https://www.ada.org.uk/events-calendar/policy-finance-committee-meeting-sept2022/
LOCATION:CIWEM\, 106-109 Saffron Hill\, London\, EC1N 8QS
CATEGORIES:Committee - P&F
ATTACH;FMTTYPE=image/jpeg:https://www.ada.org.uk/wp-content/uploads/2022/03/ADA-Events-PF-Committee.jpg
END:VEVENT
BEGIN:VEVENT
DTSTART;TZID=Europe/London:20220525T103000
DTEND;TZID=Europe/London:20220525T143000
DTSTAMP:20260421T213143
CREATED:20220307T114509Z
LAST-MODIFIED:20220331T164404Z
UID:7380-1653474600-1653489000@www.ada.org.uk
SUMMARY:Policy & Finance Committee Meeting
DESCRIPTION:ADA’s Policy & Finance Committee discusses governance\, legal\, financial\, audit and policy matters. \nMore information to follow.
URL:https://www.ada.org.uk/events-calendar/policy-finance-committee-meeting-may2022/
LOCATION:CIWEM\, 106-109 Saffron Hill\, London\, EC1N 8QS
CATEGORIES:Committee - P&F
ATTACH;FMTTYPE=image/jpeg:https://www.ada.org.uk/wp-content/uploads/2022/03/ADA-Events-PF-Committee.jpg
END:VEVENT
END:VCALENDAR