BEGIN:VCALENDAR
VERSION:2.0
PRODID:-//Association of Drainage Authorities - ECPv6.15.20//NONSGML v1.0//EN
CALSCALE:GREGORIAN
METHOD:PUBLISH
X-WR-CALNAME:Association of Drainage Authorities
X-ORIGINAL-URL:https://www.ada.org.uk
X-WR-CALDESC:Events for Association of Drainage Authorities
REFRESH-INTERVAL;VALUE=DURATION:PT1H
X-Robots-Tag:noindex
X-PUBLISHED-TTL:PT1H
BEGIN:VTIMEZONE
TZID:Europe/London
BEGIN:DAYLIGHT
TZOFFSETFROM:+0000
TZOFFSETTO:+0100
TZNAME:BST
DTSTART:20220327T010000
END:DAYLIGHT
BEGIN:STANDARD
TZOFFSETFROM:+0100
TZOFFSETTO:+0000
TZNAME:GMT
DTSTART:20221030T010000
END:STANDARD
BEGIN:DAYLIGHT
TZOFFSETFROM:+0000
TZOFFSETTO:+0100
TZNAME:BST
DTSTART:20230326T010000
END:DAYLIGHT
BEGIN:STANDARD
TZOFFSETFROM:+0100
TZOFFSETTO:+0000
TZNAME:GMT
DTSTART:20231029T010000
END:STANDARD
BEGIN:DAYLIGHT
TZOFFSETFROM:+0000
TZOFFSETTO:+0100
TZNAME:BST
DTSTART:20240331T010000
END:DAYLIGHT
BEGIN:STANDARD
TZOFFSETFROM:+0100
TZOFFSETTO:+0000
TZNAME:GMT
DTSTART:20241027T010000
END:STANDARD
BEGIN:DAYLIGHT
TZOFFSETFROM:+0000
TZOFFSETTO:+0100
TZNAME:BST
DTSTART:20250330T010000
END:DAYLIGHT
BEGIN:STANDARD
TZOFFSETFROM:+0100
TZOFFSETTO:+0000
TZNAME:GMT
DTSTART:20251026T010000
END:STANDARD
BEGIN:DAYLIGHT
TZOFFSETFROM:+0000
TZOFFSETTO:+0100
TZNAME:BST
DTSTART:20260329T010000
END:DAYLIGHT
BEGIN:STANDARD
TZOFFSETFROM:+0100
TZOFFSETTO:+0000
TZNAME:GMT
DTSTART:20261025T010000
END:STANDARD
END:VTIMEZONE
BEGIN:VEVENT
DTSTART;VALUE=DATE:20230215
DTEND;VALUE=DATE:20230216
DTSTAMP:20260422T234538
CREATED:20221220T122222Z
LAST-MODIFIED:20221220T122222Z
UID:8003-1676419200-1676505599@www.ada.org.uk
SUMMARY:Board Meeting
DESCRIPTION:More information to follow
URL:https://www.ada.org.uk/events-calendar/board-meeting/
LOCATION:Online
CATEGORIES:ADA Board Meeting
ATTACH;FMTTYPE=image/jpeg:https://www.ada.org.uk/wp-content/uploads/2022/03/ADA-Events-Board-Meeting.jpg
END:VEVENT
BEGIN:VEVENT
DTSTART;VALUE=DATE:20230329
DTEND;VALUE=DATE:20230330
DTSTAMP:20260422T234538
CREATED:20230104T150258Z
LAST-MODIFIED:20230405T154802Z
UID:8028-1680048000-1680134399@www.ada.org.uk
SUMMARY:Keeping Our Rivers Flowing Summit 2023
DESCRIPTION:Register: Keeping Our Rivers Flowing Summit 2023  \nHosted by: ADA\, CLA\, Environment Agency\, and National Farmers’ Union (NFU) \nChaired by: Tom Bradshaw\, Deputy President of the NFU \nDate: Wednesday 29 March 2023 \nVenue:National Farmers Union Conference Centre Stoneleigh CV8 2TZ \nTheme:Adapting To Our Changing Climate \nSummit Agenda – Coming soon \nKindly sponsored by: Bedford Pumps. Highly experienced British manufacturer of robust pumping plant for the water and wastewater industry. \nAs climate change makes the UK warmer and wetter\, we will be visited by extreme weather more frequently in the future and must ensure our landscape and communities adapt and become more resilient. This will mean changes in how we manage and enhance our rivers and catchments\, whilst reducing emissions from construction\, maintenance\, and pumping. \nChairing the Summit and delivering the keynote address\, will be the Deputy President of the NFU\, Tom Bradshaw\, who has officeholder responsibilities for climate change\, net zero\, and water at the union. \nOther confirmed speakers include: David Mitchell\, who is the Senior Manager at the Somerset Rivers Authority; Kelly Hewson-Fisher\, the NFU’s National Water Resources Specialist; and Daniel Johns\, Managing Director of Water Resources East. Further speakers for evidence sessions are being finalised. \nStarting at 10.30\, the day will include the evidence sessions aimed at sharing thinking towards future flood and water management strategies for our river catchments with ample time for questions\, discussion\, and a networking buffet lunch. \nPresentations;\nRussell Turner\, Environment Agency\nLisa Edwards\, NFU\nCaroline Douglass\, Environment Agency\nKelly Hewson-Fisher\, NFU\nDaniel Johns\, Water Resources East
URL:https://www.ada.org.uk/events-calendar/keeping-our-rivers-flowing-summit-2023/
LOCATION:National Farmers Union\, Stoneleigh\, Agriculture House\, Stoneleigh Park\, Warwickshire\, CV8 2TZ\, United Kingdom
CATEGORIES:Summit
ATTACH;FMTTYPE=image/jpeg:https://www.ada.org.uk/wp-content/uploads/2023/01/KeepingOurRiversFlowing_event-calendar-graphic.jpg
END:VEVENT
BEGIN:VEVENT
DTSTART;TZID=Europe/London:20230427T100000
DTEND;TZID=Europe/London:20230427T123000
DTSTAMP:20260422T234538
CREATED:20230309T070057Z
LAST-MODIFIED:20230309T072003Z
UID:8208-1682589600-1682598600@www.ada.org.uk
SUMMARY:Embracing Equity: Developing Successful Working Partnerships
DESCRIPTION:In celebration of International Women’s Day 2023\, ADA and Lower Medway IDB are pleased to announce an upcoming free online workshop for members of both ADA and Women in FCERM (WiFCERM) around the theme of Embracing Equity: Developing Successful Working Partnerships as an offering to support WiFCERM goals. \nLower Medway IDB have collaborated with Nicola Williams\, a relationships coach and trainer\, to bring ADA and WiFCERM members this workshop\, supported on a cost neutral basis by ADA and Lower Medway IDB. \nAnnouncing the workshop\, Priscilla Haselhurst\, Clerk & Engineer to Lower Medway IDB said: \nAs a WiFCERM committee member\, I wanted us to make an offering that was tangible and useful across the FCERM sphere\, which coincided with International Women’s Day. \n“Successful working partnerships are key for positive societal and environmental outcomes\, and essential in our response to the climate and ecological emergency. Responsibility for managing flood and coastal risk lies within different organisations and effective action can only happen by working together. Consequently\, differing priorities and ways of working requires good relationships to ensure successful outcomes. \nHow can we develop quality working relationships that ensure effective impact? \nDuring this 2.5 hour workshop\, with a further optional 30 minutes for Q&A session. \nWe will learn: \n\nWhat equity is\, why it is good\, and how we can uphold it as an organisational and /personal value.\nHow a positive relationship with ourselves supports positive working relationships with others and ways to cultivate this.\nHow to connect well with others and stay connected as we communicate and negotiate\, to create resilient partnerships based on mutual trust and respect.\nHow we can make a personal commitment to what has been learned.\n\nThe workshop will be held on Zoom on Thursday 27 April 10.00-12:30 and will have limited spaces to ensure that we can gain the most value from the workshop. \nTo register a firm commitment to join the workshop\, please email: enquiries@lmidb.co.uk
URL:https://www.ada.org.uk/events-calendar/embracing-equity-developing-successful-working-partnerships/
LOCATION:Online
CATEGORIES:Training
ATTACH;FMTTYPE=image/jpeg:https://www.ada.org.uk/wp-content/uploads/2023/03/ADA-Events-WiFCERM-event-logo.jpg
END:VEVENT
BEGIN:VEVENT
DTSTART;VALUE=DATE:20230523
DTEND;VALUE=DATE:20230524
DTSTAMP:20260422T234538
CREATED:20221220T163241Z
LAST-MODIFIED:20230113T095901Z
UID:8011-1684800000-1684886399@www.ada.org.uk
SUMMARY:Policy & Finance Comittee
DESCRIPTION:More information to follow
URL:https://www.ada.org.uk/events-calendar/policy-finance-comittee-2/
LOCATION:Environment Agency\, TEAM 2100\, 111 Buckingham Palace Road\, London\, SW1W 0SR\, United Kingdom
CATEGORIES:Committee - P&F
ATTACH;FMTTYPE=image/jpeg:https://www.ada.org.uk/wp-content/uploads/2022/03/ADA-Events-PF-Committee.jpg
END:VEVENT
BEGIN:VEVENT
DTSTART;VALUE=DATE:20230524
DTEND;VALUE=DATE:20230525
DTSTAMP:20260422T234538
CREATED:20221220T164027Z
LAST-MODIFIED:20230113T095930Z
UID:8017-1684886400-1684972799@www.ada.org.uk
SUMMARY:Technical & Environmental Committee
DESCRIPTION:More information to follow
URL:https://www.ada.org.uk/events-calendar/technical-environmental-committee-2/
LOCATION:Environment Agency\, TEAM 2100\, 111 Buckingham Palace Road\, London\, SW1W 0SR\, United Kingdom
CATEGORIES:Committee - T&E
ATTACH;FMTTYPE=image/jpeg:https://www.ada.org.uk/wp-content/uploads/2022/03/ADA-Events-TE-Committee.jpg
END:VEVENT
BEGIN:VEVENT
DTSTART;VALUE=DATE:20230705
DTEND;VALUE=DATE:20230707
DTSTAMP:20260422T234538
CREATED:20221220T122013Z
LAST-MODIFIED:20230111T101226Z
UID:7999-1688515200-1688687999@www.ada.org.uk
SUMMARY:Flood & Water Live
DESCRIPTION:The working demonstration for managing watercourses & flood defence. See the latest plant machinery\, pumps\, technology & innovations.
URL:https://www.ada.org.uk/events-calendar/flood-water-live/
LOCATION:Dyson Farming\, Carrington\, Lincolnshire\, PE22 7JD
CATEGORIES:Demo Event,Events
ATTACH;FMTTYPE=image/jpeg:https://www.ada.org.uk/wp-content/uploads/2022/12/ADA-Events-logos_FW-Live.jpg
END:VEVENT
BEGIN:VEVENT
DTSTART;VALUE=DATE:20230718
DTEND;VALUE=DATE:20230719
DTSTAMP:20260422T234538
CREATED:20221220T122311Z
LAST-MODIFIED:20230215T140531Z
UID:8005-1689638400-1689724799@www.ada.org.uk
SUMMARY:Board Meeting
DESCRIPTION:More information to follow
URL:https://www.ada.org.uk/events-calendar/board-meeting-2/
LOCATION:TBC
CATEGORIES:ADA Board Meeting
ATTACH;FMTTYPE=image/jpeg:https://www.ada.org.uk/wp-content/uploads/2022/03/ADA-Events-Board-Meeting.jpg
END:VEVENT
BEGIN:VEVENT
DTSTART;VALUE=DATE:20230912
DTEND;VALUE=DATE:20230913
DTSTAMP:20260422T234538
CREATED:20221220T164205Z
LAST-MODIFIED:20230801T144915Z
UID:8019-1694476800-1694563199@www.ada.org.uk
SUMMARY:Technical & Environmental Committee
DESCRIPTION:More information to follow
URL:https://www.ada.org.uk/events-calendar/technical-environmental-committee-3/
LOCATION:Environment Agency\, TEAM 2100\, 111 Buckingham Palace Road\, London\, SW1W 0SR\, United Kingdom
CATEGORIES:Committee - T&E
ATTACH;FMTTYPE=image/jpeg:https://www.ada.org.uk/wp-content/uploads/2022/03/ADA-Events-TE-Committee.jpg
END:VEVENT
BEGIN:VEVENT
DTSTART;VALUE=DATE:20230913
DTEND;VALUE=DATE:20230914
DTSTAMP:20260422T234538
CREATED:20221220T163331Z
LAST-MODIFIED:20230801T144648Z
UID:8013-1694563200-1694649599@www.ada.org.uk
SUMMARY:Policy & Finance Comittee
DESCRIPTION:More information to follow
URL:https://www.ada.org.uk/events-calendar/policy-finance-comittee-3/
LOCATION:Environment Agency\, TEAM 2100\, 111 Buckingham Palace Road\, London\, SW1W 0SR\, United Kingdom
CATEGORIES:Committee - P&F
ATTACH;FMTTYPE=image/jpeg:https://www.ada.org.uk/wp-content/uploads/2022/03/ADA-Events-PF-Committee.jpg
END:VEVENT
BEGIN:VEVENT
DTSTART;TZID=Europe/London:20230927T103000
DTEND;TZID=Europe/London:20230927T123000
DTSTAMP:20260422T234538
CREATED:20221220T120209Z
LAST-MODIFIED:20230808T092154Z
UID:7997-1695810600-1695817800@www.ada.org.uk
SUMMARY:ADA Annual General Meeting 2023
DESCRIPTION:To register\, please visit www.ada.org.uk/ada-agm and follow the Eventbrite link to complete the registration form with your details. Meeting papers and instructions on how to join the session will be sent electronically to everyone who registers prior to the event. If you wish to additionally receive a printed copy of the AGM Handbook (our annual report of ADA’s activities) by post\, please ensure that you register by Monday 18 September 2023 and complete your full postal address when registering.
URL:https://www.ada.org.uk/events-calendar/ada-annual-general-meeting-2023/
LOCATION:Online
CATEGORIES:ADA Meeting
ATTACH;FMTTYPE=image/jpeg:https://www.ada.org.uk/wp-content/uploads/2022/04/ADA-Events-AGM.jpg
END:VEVENT
BEGIN:VEVENT
DTSTART;VALUE=DATE:20231011
DTEND;VALUE=DATE:20231012
DTSTAMP:20260422T234538
CREATED:20221220T122403Z
LAST-MODIFIED:20221220T122403Z
UID:8007-1696982400-1697068799@www.ada.org.uk
SUMMARY:Board Meeting
DESCRIPTION:More information to follow
URL:https://www.ada.org.uk/events-calendar/board-meeting-3/
LOCATION:TBC
CATEGORIES:ADA Board Meeting
ATTACH;FMTTYPE=image/jpeg:https://www.ada.org.uk/wp-content/uploads/2022/03/ADA-Events-Board-Meeting.jpg
END:VEVENT
BEGIN:VEVENT
DTSTART;TZID=Europe/London:20231121T110000
DTEND;TZID=Europe/London:20231121T170000
DTSTAMP:20260422T234538
CREATED:20221220T115837Z
LAST-MODIFIED:20230724T155046Z
UID:7995-1700564400-1700586000@www.ada.org.uk
SUMMARY:ADA Flood & Water Conference 2023
DESCRIPTION:We are delighted to announce that the ADA Flood & Water Conference 2023 will be returning to the magnificent venue of One Great George Street\, Westminster\, London on Tuesday 21 November 2023. \nThe ADA Flood & Water Conference will bring together leading flood and water level management practitioners from across the UK to hear from a line-up of prominent political\, policy\, and technical speakers from across the United Kingdom\, and discuss key policy topics of the moment. \nThe format of this year’s Conference has been developed to: maximise the time available for networking\, invite a greater variety of guest speakers\, and provide more convenient timing for those travelling to and from London. The Conference will open from 11.00 for networking with delegates and an Exhibition of ADA’s Associate Members. A buffet lunch will be served from 12.00 before the conference presentations commence at 13.20. The Conference will close at 17.00. \nWe hope you can join us. \nRegister online via Eventbrite
URL:https://www.ada.org.uk/events-calendar/ada-annual-water-management-conference-2023/
LOCATION:One Great George Street\, 1 Great George Street\, Westminster\, London\, SW1P 3AA\, United Kingdom
CATEGORIES:Conferences
ATTACH;FMTTYPE=image/jpeg:https://www.ada.org.uk/wp-content/uploads/2022/04/ADA-Events-Conference.jpg
END:VEVENT
BEGIN:VEVENT
DTSTART;VALUE=DATE:20240131
DTEND;VALUE=DATE:20240201
DTSTAMP:20260422T234538
CREATED:20230929T073825Z
LAST-MODIFIED:20231004T005004Z
UID:8604-1706659200-1706745599@www.ada.org.uk
SUMMARY:Policy Committee
DESCRIPTION:More information to follow\, to be held in London
URL:https://www.ada.org.uk/events-calendar/policy-committee/
LOCATION:TBC
CATEGORIES:Policy Committee
ATTACH;FMTTYPE=image/jpeg:https://www.ada.org.uk/wp-content/uploads/2023/09/ADA-Events-Policy-Committee.jpg
END:VEVENT
BEGIN:VEVENT
DTSTART;VALUE=DATE:20240202
DTEND;VALUE=DATE:20240203
DTSTAMP:20260422T234538
CREATED:20230929T075301Z
LAST-MODIFIED:20240207T100712Z
UID:8622-1706832000-1706918399@www.ada.org.uk
SUMMARY:ADA Environment Day
DESCRIPTION:ADA is delighted to be hosting its second Environment Day for Lowland Water Managers on Friday 2nd February 2024 at Park Farm\, Thorney\, Peterborough\, Cambridgeshire. \nThis free to attend in-person event fittingly coincides with World Wetlands Day and plans to be an insightful day with a host of speakers talking on a range of topics relevant to management of the lowland freshwater environment. \nOur packed agenda will include presentations that cover everything from soils to ELMS and invasive species to local nature recovery. \nEnvironment Day 2024 Agenda\nThe Presentations:\nKeynote address: Wildlife\, Law & Policy – Chris Manning\, Water Management Consortium\nLowland peat soils – Jordan Champ\, Defra\nLowland water quality – Sofi Lloyd\, MLC & Robin Price\, Anglian Water\nBiodiversity Net Gain – Luke Bamford\, Greater Lincolnshire Nature Partnership\nInvasive aquatic plant – Floating pennyworth – Phil Brewin\, Somerset Drainage Board Consortium\nLocal Nature Recovery Strategies – John Torlesse\, Natural England\nWater within the Sustainable Farming Incentive – Jonathan Baker\, Defra
URL:https://www.ada.org.uk/events-calendar/ada-environment-day/
LOCATION:Park Farm\, Off Deer Park Way\, Thorney\, Peterbrough\, PE6 0SY\, United Kingdom
CATEGORIES:Events,Training
ATTACH;FMTTYPE=image/jpeg:https://www.ada.org.uk/wp-content/uploads/2023/09/ADA-Events-logos_Env-Day.jpg
END:VEVENT
BEGIN:VEVENT
DTSTART;VALUE=DATE:20240214
DTEND;VALUE=DATE:20240215
DTSTAMP:20260422T234538
CREATED:20230929T074249Z
LAST-MODIFIED:20231004T004929Z
UID:8610-1707868800-1707955199@www.ada.org.uk
SUMMARY:Advisory Committee
DESCRIPTION:More information to follow\, to be held at Stoneleigh Park\, Warwickshire / Online
URL:https://www.ada.org.uk/events-calendar/advisory-committee/
LOCATION:TBC
CATEGORIES:Advisory Committee
ATTACH;FMTTYPE=image/jpeg:https://www.ada.org.uk/wp-content/uploads/2023/09/ADA-Events-Advisory-Committee.jpg
END:VEVENT
BEGIN:VEVENT
DTSTART;VALUE=DATE:20240305
DTEND;VALUE=DATE:20240306
DTSTAMP:20260422T234538
CREATED:20230929T074727Z
LAST-MODIFIED:20231004T005628Z
UID:8616-1709596800-1709683199@www.ada.org.uk
SUMMARY:ADA Board Meeting
DESCRIPTION:More information to follow\, to be held in London
URL:https://www.ada.org.uk/events-calendar/ada-board-meeting/
LOCATION:Stantec London (Turnmill Street)\, The Stills\, 1st Floor\, 80 Turnmill Street\, London\, EC1M 5QU
CATEGORIES:ADA Board Meeting
ATTACH;FMTTYPE=image/jpeg:https://www.ada.org.uk/wp-content/uploads/2022/03/ADA-Events-Board-Meeting.jpg
END:VEVENT
BEGIN:VEVENT
DTSTART;VALUE=DATE:20240522
DTEND;VALUE=DATE:20240523
DTSTAMP:20260422T234538
CREATED:20230929T073943Z
LAST-MODIFIED:20231004T004909Z
UID:8606-1716336000-1716422399@www.ada.org.uk
SUMMARY:Policy Committee
DESCRIPTION:More information to follow\, to be held in London
URL:https://www.ada.org.uk/events-calendar/policy-committee-2/
LOCATION:TBC
CATEGORIES:Policy Committee
ATTACH;FMTTYPE=image/jpeg:https://www.ada.org.uk/wp-content/uploads/2023/09/ADA-Events-Policy-Committee.jpg
END:VEVENT
BEGIN:VEVENT
DTSTART;VALUE=DATE:20240611
DTEND;VALUE=DATE:20240612
DTSTAMP:20260422T234538
CREATED:20230929T074420Z
LAST-MODIFIED:20231004T004829Z
UID:8612-1718064000-1718150399@www.ada.org.uk
SUMMARY:Advisory Committee
DESCRIPTION:More information to follow\, to be held at Stoneleigh Park\, Warwickshire / Online
URL:https://www.ada.org.uk/events-calendar/advisory-committee-2/
LOCATION:TBC
CATEGORIES:Advisory Committee
ATTACH;FMTTYPE=image/jpeg:https://www.ada.org.uk/wp-content/uploads/2023/09/ADA-Events-Advisory-Committee.jpg
END:VEVENT
BEGIN:VEVENT
DTSTART;VALUE=DATE:20240702
DTEND;VALUE=DATE:20240703
DTSTAMP:20260422T234538
CREATED:20230929T074837Z
LAST-MODIFIED:20240402T111935Z
UID:8618-1719878400-1719964799@www.ada.org.uk
SUMMARY:ADA Board Meeting
DESCRIPTION:More information to follow
URL:https://www.ada.org.uk/events-calendar/ada-board-meeting-2/
LOCATION:Westminster Kingsway College\, Victoria Centre\, 76 Vincent Square\, London\, SW1P 2PD\, United Kingdom
CATEGORIES:ADA Board Meeting
ATTACH;FMTTYPE=image/jpeg:https://www.ada.org.uk/wp-content/uploads/2022/03/ADA-Events-Board-Meeting.jpg
END:VEVENT
BEGIN:VEVENT
DTSTART;VALUE=DATE:20240911
DTEND;VALUE=DATE:20240912
DTSTAMP:20260422T234538
CREATED:20230929T074039Z
LAST-MODIFIED:20231004T004752Z
UID:8608-1726012800-1726099199@www.ada.org.uk
SUMMARY:Policy Committee
DESCRIPTION:More information to follow\, to be held in London
URL:https://www.ada.org.uk/events-calendar/policy-committee-3/
LOCATION:TBC
CATEGORIES:Policy Committee
ATTACH;FMTTYPE=image/jpeg:https://www.ada.org.uk/wp-content/uploads/2023/09/ADA-Events-Policy-Committee.jpg
END:VEVENT
BEGIN:VEVENT
DTSTART;VALUE=DATE:20240925
DTEND;VALUE=DATE:20240926
DTSTAMP:20260422T234538
CREATED:20230929T074523Z
LAST-MODIFIED:20231004T004722Z
UID:8614-1727222400-1727308799@www.ada.org.uk
SUMMARY:Advisory Committee
DESCRIPTION:More information to follow\, to be held at Stoneleigh Park\, Warwickshire / Online
URL:https://www.ada.org.uk/events-calendar/advisory-committee-3/
LOCATION:TBC
CATEGORIES:Advisory Committee
ATTACH;FMTTYPE=image/jpeg:https://www.ada.org.uk/wp-content/uploads/2023/09/ADA-Events-Advisory-Committee.jpg
END:VEVENT
BEGIN:VEVENT
DTSTART;TZID=Europe/London:20241009T153000
DTEND;TZID=Europe/London:20241009T163000
DTSTAMP:20260422T234538
CREATED:20240909T141211Z
LAST-MODIFIED:20240909T141310Z
UID:9106-1728487800-1728491400@www.ada.org.uk
SUMMARY:APPG for Sustainable Flood & Drought Management
DESCRIPTION:“Future Challenges for flood and drought management” \nAgenda\nBy Invitation Only
URL:https://www.ada.org.uk/events-calendar/appg-for-sustainable-flood-drought-management/
LOCATION:Portcullis House\, Westminister\, London\, London\, SW1A 2LW\, United Kingdom
CATEGORIES:All-Party Parliamentary Group
END:VEVENT
BEGIN:VEVENT
DTSTART;VALUE=DATE:20241015
DTEND;VALUE=DATE:20241016
DTSTAMP:20260422T234538
CREATED:20230929T074938Z
LAST-MODIFIED:20240402T112003Z
UID:8620-1728950400-1729036799@www.ada.org.uk
SUMMARY:ADA Board Meeting
DESCRIPTION:More information to follow
URL:https://www.ada.org.uk/events-calendar/ada-board-meeting-3/
LOCATION:Westminster Kingsway College\, Victoria Centre\, 76 Vincent Square\, London\, SW1P 2PD\, United Kingdom
CATEGORIES:ADA Board Meeting
ATTACH;FMTTYPE=image/jpeg:https://www.ada.org.uk/wp-content/uploads/2022/03/ADA-Events-Board-Meeting.jpg
END:VEVENT
BEGIN:VEVENT
DTSTART;VALUE=DATE:20241113
DTEND;VALUE=DATE:20241114
DTSTAMP:20260422T234538
CREATED:20230929T075606Z
LAST-MODIFIED:20240801T121857Z
UID:8626-1731456000-1731542399@www.ada.org.uk
SUMMARY:ADA Flood & Water Conference 2024
DESCRIPTION:ADA is delighted to announce that bookings are now open for the ADA Flood & Water Conference 2024 taking place on 13 November 2024 at One Great George Street\, Westminster\, London.   \nKindly sponsored by Balfour Beatty Plc and Wilkin Chapman LLP\, this year’s conference will once again bring together delegates from across the flood and water level management industry\, including the Environment Agency\, internal drainage boards\, local authorities\, regional flood and coastal committees\, Natural Resources Wales and many suppliers.\n  \n\n\n\n\nSpeakers\nAn exciting programme of prominent political\, policy and technical speakers have been lined-up for this event which will also feature a discussion forum and the opportunity for attendees to pose questions to the speakers/panellists.  \nWe are delighted to share that the following keynote speakers have confirmed their attendance. \nHaving addressed the conference last year\, we very much look forward to hearing from Emma Hardy MP in her new capacity Minister for Water & Flooding within the Department for Environment Food & Rural Affairs. We look forward to hearing from the Minister on the Department’s future plans for the sector. \nCaroline Douglass\, Executive Director of Flood and Coastal Risk Management at the Environment Agency is responsible for setting the direction for flood and coastal risk management in England and developing and implementing policy. \nRachel Hallos\, Vice-President of the National Farmers’ Union is an upland farmer who works in partnership with her husband on a Yorkshire Water tenanted farm in the South Pennines and elected in February 2024. Following a challenging winter and spring for the agricultural sector\, water and flooding are high on Rachel’s agenda in her new role\, so we can look forward to hearing her perspective. \nThe remaining line-up of speakers will be announced over the coming months.\n\n\n\nHow to book\nDiscounted Early Bird tickets at £135+VAT are available exclusively to ADA Members\, including staff and board members of IDBs\, Environment Agency\, Natural Resources Wales\, Dept. for Infrastructure NI – Rivers Division\, Regional Flood & Coastal Committees\, Coal Authority\, Anglian Water\, Network Rail\, as well as staff and councillors of local authorities who are members of ADA. Once early-bird tickets have been sold\, the full price for ADA member tickets will be £150+VAT.  \nThe non-member rate is £225+VAT. \nA limited number of free tickets are available by application to students enrolled and studying on a relevant flood or water management degree programme. \nClick here to book tickets\n   \nExhibition\nThe event will open with our Associate Member Exhibition in the Great Hall which offers the chance for attendees to connect with suppliers of products and services to the sector network with new faces and catch up with colleagues.   A buffet lunch will be served from 12.00 before the conference presentations commence at 12.45.   \nFurther opportunity for networking will be available during the afternoon refreshments break (14.20 – 15.00) before the Conference closes at 16.00. \nAssociate Members can book exhibition space here. Each exhibiting Associate Member will receive one free ticket for a name representative to attend the Conference.\n  \nAny queries\nShould you have any queries about the ADA Annual Flood & Water Conference 2024\, please do not hesitate to get in touch with Heather Bailey on heather.bailey@ada.org.uk.
URL:https://www.ada.org.uk/events-calendar/ada-flood-water-conference-2024/
LOCATION:One Great George Street\, 1 Great George Street\, Westminster\, London\, SW1P 3AA\, United Kingdom
CATEGORIES:Conferences
ATTACH;FMTTYPE=image/jpeg:https://www.ada.org.uk/wp-content/uploads/2022/04/ADA-Events-Conference.jpg
END:VEVENT
BEGIN:VEVENT
DTSTART;VALUE=DATE:20241203
DTEND;VALUE=DATE:20241204
DTSTAMP:20260422T234538
CREATED:20230929T075431Z
LAST-MODIFIED:20230929T075431Z
UID:8624-1733184000-1733270399@www.ada.org.uk
SUMMARY:ADA Annual General Meeting 2024
DESCRIPTION:More information to follow
URL:https://www.ada.org.uk/events-calendar/ada-annual-general-meeting-2024/
LOCATION:Online
CATEGORIES:ADA Meeting
ATTACH;FMTTYPE=image/jpeg:https://www.ada.org.uk/wp-content/uploads/2022/04/ADA-Events-AGM.jpg
END:VEVENT
BEGIN:VEVENT
DTSTART;TZID=Europe/London:20250113T130000
DTEND;TZID=Europe/London:20250113T150000
DTSTAMP:20260422T234538
CREATED:20241213T152908Z
LAST-MODIFIED:20241213T152908Z
UID:9527-1736773200-1736780400@www.ada.org.uk
SUMMARY:Environmental Forum
DESCRIPTION:For more information\, please email ian.moodie@ada.org.uk
URL:https://www.ada.org.uk/events-calendar/environmental-forum/
LOCATION:Online
CATEGORIES:Environmental Forum
ATTACH;FMTTYPE=image/jpeg:https://www.ada.org.uk/wp-content/uploads/2024/12/ADA-Events-Environmental-Forum.jpg
END:VEVENT
BEGIN:VEVENT
DTSTART;VALUE=DATE:20250122
DTEND;VALUE=DATE:20250123
DTSTAMP:20260422T234538
CREATED:20241213T154429Z
LAST-MODIFIED:20241213T154429Z
UID:9538-1737504000-1737590399@www.ada.org.uk
SUMMARY:Policy Committee
DESCRIPTION:More information to follow
URL:https://www.ada.org.uk/events-calendar/policy-committee-4/
LOCATION:Westminster Kingsway College\, Victoria Centre\, 76 Vincent Square\, London\, SW1P 2PD\, United Kingdom
CATEGORIES:Policy Committee
ATTACH;FMTTYPE=image/jpeg:https://www.ada.org.uk/wp-content/uploads/2023/09/ADA-Events-Policy-Committee.jpg
END:VEVENT
BEGIN:VEVENT
DTSTART;TZID=Europe/London:20250205T100000
DTEND;TZID=Europe/London:20250205T160000
DTSTAMP:20260422T234538
CREATED:20241213T152256Z
LAST-MODIFIED:20241213T152256Z
UID:9525-1738749600-1738771200@www.ada.org.uk
SUMMARY:ADA Environment Day
DESCRIPTION:We are excited to be hosting ADA’s third annual Environment Day on Wednesday 5 February 2025 at Park Farm\, Thorney\, near Peterborough. The event is kindly sponsored by Xylem. \nThis free in-person event aims to provide an insightful day of talks on a range of topics relevant to the management of the lowland watercourses and the freshwater environment. The day will cover everything from peat soils to invasive species\, and aquatic flora to local nature recovery. \nADA warmly invites those who play a role in managing\, maintaining\, and governing safe water levels and flood risk infrastructure across our lowland water landscapes. The event aims to help you to better perform your statutory environmental duties\, utilise best practice approaches\, and enhance your local lowland environment as part of your essential work. \nOur last Environment Day was a capacity event\, and so we would encourage you to book your place now as we anticipate that the ADA Environment Day 2025 will attract strong interest from lowland water managers. \nBOOK NOW
URL:https://www.ada.org.uk/events-calendar/ada-environment-day-2/
LOCATION:Park Farm\, Off Deer Park Way\, Thorney\, Peterbrough\, PE6 0SY\, United Kingdom
CATEGORIES:Events
ATTACH;FMTTYPE=image/jpeg:https://www.ada.org.uk/wp-content/uploads/2024/12/Environment-Day-2025-Banner-wordpress.jpg
END:VEVENT
BEGIN:VEVENT
DTSTART;VALUE=DATE:20250211
DTEND;VALUE=DATE:20250212
DTSTAMP:20260422T234538
CREATED:20241213T160759Z
LAST-MODIFIED:20241213T160816Z
UID:9545-1739232000-1739318399@www.ada.org.uk
SUMMARY:Advisory Committee
DESCRIPTION:More information to follow
URL:https://www.ada.org.uk/events-calendar/advisory-committee-4/
LOCATION:Rural Innovation Centre\, Avenue H\, Stoneleigh Park\, Stoneleigh\, Warwickshire\, CV8 2LG\, United Kingdom
CATEGORIES:Advisory Committee
ATTACH;FMTTYPE=image/jpeg:https://www.ada.org.uk/wp-content/uploads/2023/09/ADA-Events-Advisory-Committee.jpg
END:VEVENT
BEGIN:VEVENT
DTSTART;VALUE=DATE:20250304
DTEND;VALUE=DATE:20250305
DTSTAMP:20260422T234538
CREATED:20241213T151251Z
LAST-MODIFIED:20241213T151251Z
UID:9518-1741046400-1741132799@www.ada.org.uk
SUMMARY:ADA Board Meeting
DESCRIPTION:More information to follow
URL:https://www.ada.org.uk/events-calendar/ada-board-meeting-4/
LOCATION:Westminster Kingsway College\, Victoria Centre\, 76 Vincent Square\, London\, SW1P 2PD\, United Kingdom
CATEGORIES:ADA Board Meeting
ATTACH;FMTTYPE=image/jpeg:https://www.ada.org.uk/wp-content/uploads/2022/03/ADA-Events-Board-Meeting.jpg
END:VEVENT
END:VCALENDAR