BEGIN:VCALENDAR
VERSION:2.0
PRODID:-//Association of Drainage Authorities - ECPv6.15.20//NONSGML v1.0//EN
CALSCALE:GREGORIAN
METHOD:PUBLISH
X-WR-CALNAME:Association of Drainage Authorities
X-ORIGINAL-URL:https://www.ada.org.uk
X-WR-CALDESC:Events for Association of Drainage Authorities
REFRESH-INTERVAL;VALUE=DURATION:PT1H
X-Robots-Tag:noindex
X-PUBLISHED-TTL:PT1H
BEGIN:VTIMEZONE
TZID:Europe/London
BEGIN:DAYLIGHT
TZOFFSETFROM:+0000
TZOFFSETTO:+0100
TZNAME:BST
DTSTART:20210328T010000
END:DAYLIGHT
BEGIN:STANDARD
TZOFFSETFROM:+0100
TZOFFSETTO:+0000
TZNAME:GMT
DTSTART:20211031T010000
END:STANDARD
BEGIN:DAYLIGHT
TZOFFSETFROM:+0000
TZOFFSETTO:+0100
TZNAME:BST
DTSTART:20220327T010000
END:DAYLIGHT
BEGIN:STANDARD
TZOFFSETFROM:+0100
TZOFFSETTO:+0000
TZNAME:GMT
DTSTART:20221030T010000
END:STANDARD
BEGIN:DAYLIGHT
TZOFFSETFROM:+0000
TZOFFSETTO:+0100
TZNAME:BST
DTSTART:20230326T010000
END:DAYLIGHT
BEGIN:STANDARD
TZOFFSETFROM:+0100
TZOFFSETTO:+0000
TZNAME:GMT
DTSTART:20231029T010000
END:STANDARD
END:VTIMEZONE
BEGIN:VEVENT
DTSTART;TZID=Europe/London:20220524T103000
DTEND;TZID=Europe/London:20220524T103000
DTSTAMP:20260423T073826
CREATED:20220307T113852Z
LAST-MODIFIED:20220331T164308Z
UID:7375-1653388200-1653388200@www.ada.org.uk
SUMMARY:Technical & Environmental Committee Meeting
DESCRIPTION:ADA’s Technical & Environmental Committee discusses engineering\, health and safety\, environmental and operational matters. \nMore information to follow.
URL:https://www.ada.org.uk/events-calendar/technical-environmental-committee-meeting-may2022/
LOCATION:CIWEM\, 106-109 Saffron Hill\, London\, EC1N 8QS
CATEGORIES:Committee - T&E
ATTACH;FMTTYPE=image/jpeg:https://www.ada.org.uk/wp-content/uploads/2022/03/ADA-Events-TE-Committee.jpg
END:VEVENT
BEGIN:VEVENT
DTSTART;TZID=Europe/London:20220512T113000
DTEND;TZID=Europe/London:20220512T160000
DTSTAMP:20260423T073826
CREATED:20220325T115014Z
LAST-MODIFIED:20220504T120005Z
UID:7561-1652355000-1652371200@www.ada.org.uk
SUMMARY:Keep Our Rivers Flowing Summit 2022
DESCRIPTION:A partnership of four leading water and land management organisations are holding a national summit in May to highlight the importance of managing rivers and their catchments throughout England.\nRegister: Keeping Our Rivers Flowing Summit 2022  \nHosted by: ADA\, CLA\, Environment Agency\, and National Farmers’ Union (NFU) \nChaired by: Robert Caudwell\, ADA Chair \nDate: Thursday 12 May 2022 \nVenue: NAEC\, Oak Trees Suite\, Stoneleigh Park\, Warwickshire\n          Directions to the Venue | Parking at the venue \nTheme: Integrating river and landscape \nSummit Agenda \nKindly sponsored by: Aquatic Control Engineering. Experts in water flow management and flood defence systems. \nThe UK and Europe have experienced an increasing frequency and intensity of flooding from our rivers in recent years\, sometimes with devastating effects upon the environment\, local communities and economies. This summit seeks to increase awareness of not only the challenges that many rivers face\, but also the practical steps that are being taken to maintain and enhance the capacity of our rivers and their catchments in coping with flood flows. \nWith environmental land management sitting at the heart of future agricultural reform in England\, the Summit will look at how flood storage and natural flood management can combine with the maintenance of our rivers to reduce the risk of flooding. \nTalking about the Summit\, Robert Caudwell\, Event Chair & ADA Chair said: “In the UK we need a range of targeted measures within our river catchments to address the impacts of flooding. This Summit offers an opportunity to bring farmers\, land managers and flood management experts together to think about how land management can complement efforts to reduce the risk of flooding from our rivers. I am looking forward to chairing a panel of leading figures to discuss those measures and the next steps needed to deliver these changes at scale.” \nWe hope to hear from Defra about how the Government’s new Environmental Land Management (ELM) schemes can contribute to enhancing our rivers and streams to reduce the risk of flooding\, and from practitioners presenting evidence on how flood water can be effectively stored within the landscape and conveyed by our rivers. \nSummit Speakers \nWe are very pleased that Sam Burford from Defra’s Landscape Recovery Team will be presenting about the importance of the connection between our landscapes\, the environment and water management supported by Richard Barnes from the Local Nature Recovery Team. \nFrom the Environment Agency the Summit will be joined by Caroline Douglass and Ian Hodge. Caroline is the Executive Director for Flood and Coastal Risk Management for the Environment Agency (EA). She joined the Agency in 2013 and has a varied background in both policy and operational roles. Before joining EA\, Caroline worked with the State Government in Victoria\, Australia. This involved a range of senior land\, catchment and natural resource management positions. Ian is the Environment Agency’s (EA) Chief Engineer and Director of Asset Management and Engineering. He is a Chartered Civil Engineer and Fellow of the Institution of Civil Engineers. \nRichard Bramley\, who chairs the National Farmers’ Union’s Environment Forum\, will reflect on his own experiences of flooding on his farm not far from Selby in North Yorkshire and the role agriculture can play through natural flood management measures and flood storage in some areas\, where there is recognition for the public goods delivered. \nIan Warsap\, Chief Executive of Black Sluice Internal Drainage Board near Boston\, Lincolnshire will describe the IDB’s experiences with environmentally friendly and cost effective lowland river maintenance by using cutting and suction silt removal to settlement lagoons and within their upper catchment through natural flood management attenuation measures. \nJo Knight will be speaking on behalf of the CLA\, supported by Alice Green. Jo works with Dyson Farming Ltd as their Estate Surveyor with specific interests in managing carbon and enhancing natural capital. Alice Green will be supporting Jo as the CLA’s Policy Advisor on Climate and Water. \nIn addition\, attendees joining this event can look forward to: \n\nPresentations from practitioners presenting examples and evidence on how flood water can be effectively stored within the landscape and conveyed by our rivers\nInformation-rich discussions and the opportunity to participate in an engaging Q&A session with the panel of senior representatives from ADA\, CLA\, EA and NFU\nStakeholders and key policy officials addressing the challenges and providing positive next steps towards solutions\nNetworking opportunities over lunch\, with a broad spectrum of attendees from across the sector\n\nBooking Information\nThis face to face event is open to both members and non-members\, with places available at a delegate rate of £25 inclusive of VAT. \nPlease visit the Keeping Our Rivers Flowing Summit 2022 Eventbrite page to book your place. \nKeeping Our Rivers Flowing Summit 2022 Eventbrite page\nThe ADA website will be kept up-to-date with information on the event\, so pop back for the latest updates.
URL:https://www.ada.org.uk/events-calendar/keep-our-rivers-flowing-summit-2022/
LOCATION:Oak Tree Suite\, Stoneleigh Park\, Stoneleigh\, Warwickshire\, CV8 2LG\, United Kingdom
CATEGORIES:Summit
ATTACH;FMTTYPE=image/jpeg:https://www.ada.org.uk/wp-content/uploads/2022/03/Banners_KeepingOurRiversFlowing2022_feat.jpg
END:VEVENT
BEGIN:VEVENT
DTSTART;TZID=Europe/London:20220428T150000
DTEND;TZID=Europe/London:20220428T160000
DTSTAMP:20260423T073826
CREATED:20220323T095722Z
LAST-MODIFIED:20220323T095722Z
UID:7533-1651158000-1651161600@www.ada.org.uk
SUMMARY:Education Ambassadors' Training
DESCRIPTION:ADA brings flood risk management into focus in schools with the launch of education resources produced in collaboration with LEAF Education. \nADA members and teachers are invited to join this online Education Ambassador Training Event taking place on Thursday 28 April\, 15:00-16:00 to familiarise themselves with the newly launched education resources that support the geography curriculum for Key Stage 4 & 5. \nRegister Here
URL:https://www.ada.org.uk/events-calendar/education-ambassadors-training/
CATEGORIES:Training
ATTACH;FMTTYPE=image/jpeg:https://www.ada.org.uk/wp-content/uploads/2022/03/ADA-Education-Training.jpg
END:VEVENT
END:VCALENDAR