BEGIN:VCALENDAR
VERSION:2.0
PRODID:-//Association of Drainage Authorities - ECPv6.15.20//NONSGML v1.0//EN
CALSCALE:GREGORIAN
METHOD:PUBLISH
X-WR-CALNAME:Association of Drainage Authorities
X-ORIGINAL-URL:https://www.ada.org.uk
X-WR-CALDESC:Events for Association of Drainage Authorities
REFRESH-INTERVAL;VALUE=DURATION:PT1H
X-Robots-Tag:noindex
X-PUBLISHED-TTL:PT1H
BEGIN:VTIMEZONE
TZID:Europe/London
BEGIN:DAYLIGHT
TZOFFSETFROM:+0000
TZOFFSETTO:+0100
TZNAME:BST
DTSTART:20240331T010000
END:DAYLIGHT
BEGIN:STANDARD
TZOFFSETFROM:+0100
TZOFFSETTO:+0000
TZNAME:GMT
DTSTART:20241027T010000
END:STANDARD
BEGIN:DAYLIGHT
TZOFFSETFROM:+0000
TZOFFSETTO:+0100
TZNAME:BST
DTSTART:20250330T010000
END:DAYLIGHT
BEGIN:STANDARD
TZOFFSETFROM:+0100
TZOFFSETTO:+0000
TZNAME:GMT
DTSTART:20251026T010000
END:STANDARD
BEGIN:DAYLIGHT
TZOFFSETFROM:+0000
TZOFFSETTO:+0100
TZNAME:BST
DTSTART:20260329T010000
END:DAYLIGHT
BEGIN:STANDARD
TZOFFSETFROM:+0100
TZOFFSETTO:+0000
TZNAME:GMT
DTSTART:20261025T010000
END:STANDARD
END:VTIMEZONE
BEGIN:VEVENT
DTSTART;TZID=Europe/London:20250428T130000
DTEND;TZID=Europe/London:20250428T150000
DTSTAMP:20260424T170757
CREATED:20241213T153049Z
LAST-MODIFIED:20241213T153049Z
UID:9529-1745845200-1745852400@www.ada.org.uk
SUMMARY:Environmental Forum
DESCRIPTION:For more information\, please email ian.moodie@ada.org.uk
URL:https://www.ada.org.uk/events-calendar/environmental-forum-2/
LOCATION:Online
CATEGORIES:Environmental Forum
ATTACH;FMTTYPE=image/jpeg:https://www.ada.org.uk/wp-content/uploads/2024/12/ADA-Events-Environmental-Forum.jpg
END:VEVENT
END:VCALENDAR